BEGIN:VCALENDAR
VERSION:2.0
PRODID:-//Tidsreiser - ECPv6.15.20//NONSGML v1.0//EN
CALSCALE:GREGORIAN
METHOD:PUBLISH
X-WR-CALNAME:Tidsreiser
X-ORIGINAL-URL:https://tidsreiser.no
X-WR-CALDESC:Arrangement for Tidsreiser
REFRESH-INTERVAL;VALUE=DURATION:PT1H
X-Robots-Tag:noindex
X-PUBLISHED-TTL:PT1H
BEGIN:VTIMEZONE
TZID:Europe/Helsinki
BEGIN:DAYLIGHT
TZOFFSETFROM:+0200
TZOFFSETTO:+0300
TZNAME:EEST
DTSTART:20220327T010000
END:DAYLIGHT
BEGIN:STANDARD
TZOFFSETFROM:+0300
TZOFFSETTO:+0200
TZNAME:EET
DTSTART:20221030T010000
END:STANDARD
BEGIN:DAYLIGHT
TZOFFSETFROM:+0200
TZOFFSETTO:+0300
TZNAME:EEST
DTSTART:20230326T010000
END:DAYLIGHT
BEGIN:STANDARD
TZOFFSETFROM:+0300
TZOFFSETTO:+0200
TZNAME:EET
DTSTART:20231029T010000
END:STANDARD
BEGIN:DAYLIGHT
TZOFFSETFROM:+0200
TZOFFSETTO:+0300
TZNAME:EEST
DTSTART:20240331T010000
END:DAYLIGHT
BEGIN:STANDARD
TZOFFSETFROM:+0300
TZOFFSETTO:+0200
TZNAME:EET
DTSTART:20241027T010000
END:STANDARD
END:VTIMEZONE
BEGIN:VEVENT
DTSTART;TZID=Europe/Helsinki:20230610T110000
DTEND;TZID=Europe/Helsinki:20230611T170000
DTSTAMP:20260421T131756
CREATED:20230414T200703Z
LAST-MODIFIED:20230508T155709Z
UID:2440-1686394800-1686502800@tidsreiser.no
SUMMARY:Dimskog
DESCRIPTION:DIMSKOG ER TILBAKE!\n\n\n\nBli med på en ny og spennende historie\n\n\n10. til 11. juni inviterer vi deg til Dimskog – Et skjult rike satt i Aegna\, skjult for folket i Langeskogen\, og Borgriket. \n  \nDimskog er et Eventyrspill som går over 2 dager\, med overnatting i telt. \n  \nPÅMELDINGSSKJEMA FINNER DU HER\nFØLG MED HER FOR MER INFORMASJON…… \n  \n\n\n\nBli med inn i en helt ny verden – Hvor vi sammen skal skape nye plott\, relasjoner\, og intriger! \nMeld deg på Eventyrspill – Dimskog 10. til 11. juni \n\n\n\n\nPÅMELDINGSSKJEMA FINNER DU HER\n  \n 
URL:https://tidsreiser.no/events/dimskog/
CATEGORIES:Bergen,Eventyrspill
ATTACH;FMTTYPE=image/webp:https://tidsreiser.no/wp-content/uploads/2022/08/Dimskogen.webp
ORGANIZER;CN="Tidsreiser AS":MAILTO:anders@tidsreiser.no
END:VEVENT
END:VCALENDAR